BEGIN:VCALENDAR
VERSION:2.0
PRODID:-//REALTOR® Association of Southern Minnesota - ECPv6.15.20//NONSGML v1.0//EN
CALSCALE:GREGORIAN
METHOD:PUBLISH
X-WR-CALNAME:REALTOR® Association of Southern Minnesota
X-ORIGINAL-URL:https://rasminfo.com
X-WR-CALDESC:Events for REALTOR® Association of Southern Minnesota
REFRESH-INTERVAL;VALUE=DURATION:PT1H
X-Robots-Tag:noindex
X-PUBLISHED-TTL:PT1H
BEGIN:VTIMEZONE
TZID:America/Chicago
BEGIN:DAYLIGHT
TZOFFSETFROM:-0600
TZOFFSETTO:-0500
TZNAME:CDT
DTSTART:20220313T080000
END:DAYLIGHT
BEGIN:STANDARD
TZOFFSETFROM:-0500
TZOFFSETTO:-0600
TZNAME:CST
DTSTART:20221106T070000
END:STANDARD
BEGIN:DAYLIGHT
TZOFFSETFROM:-0600
TZOFFSETTO:-0500
TZNAME:CDT
DTSTART:20230312T080000
END:DAYLIGHT
BEGIN:STANDARD
TZOFFSETFROM:-0500
TZOFFSETTO:-0600
TZNAME:CST
DTSTART:20231105T070000
END:STANDARD
BEGIN:DAYLIGHT
TZOFFSETFROM:-0600
TZOFFSETTO:-0500
TZNAME:CDT
DTSTART:20240310T080000
END:DAYLIGHT
BEGIN:STANDARD
TZOFFSETFROM:-0500
TZOFFSETTO:-0600
TZNAME:CST
DTSTART:20241103T070000
END:STANDARD
END:VTIMEZONE
BEGIN:VEVENT
DTSTART;TZID=America/Chicago:20230808T130000
DTEND;TZID=America/Chicago:20230808T140000
DTSTAMP:20260424T222759
CREATED:20230712T210120Z
LAST-MODIFIED:20230713T195127Z
UID:5423-1691499600-1691503200@rasminfo.com
SUMMARY:Member Engagement Meeting
DESCRIPTION:
URL:https://rasminfo.com/event/member-engagement-meeting-2/
LOCATION:RASM\, 2115 Rolling Green Lane\, North Mankato\, MN\, 56003\, United States
ORGANIZER;CN="RASM":MAILTO:deb@rasminfo.com
END:VEVENT
END:VCALENDAR