BEGIN:VCALENDAR
VERSION:2.0
PRODID:-//REALTOR® Association of Southern Minnesota - ECPv6.15.20//NONSGML v1.0//EN
CALSCALE:GREGORIAN
METHOD:PUBLISH
X-WR-CALNAME:REALTOR® Association of Southern Minnesota
X-ORIGINAL-URL:https://rasminfo.com
X-WR-CALDESC:Events for REALTOR® Association of Southern Minnesota
REFRESH-INTERVAL;VALUE=DURATION:PT1H
X-Robots-Tag:noindex
X-PUBLISHED-TTL:PT1H
BEGIN:VTIMEZONE
TZID:America/Chicago
BEGIN:DAYLIGHT
TZOFFSETFROM:-0600
TZOFFSETTO:-0500
TZNAME:CDT
DTSTART:20240310T080000
END:DAYLIGHT
BEGIN:STANDARD
TZOFFSETFROM:-0500
TZOFFSETTO:-0600
TZNAME:CST
DTSTART:20241103T070000
END:STANDARD
BEGIN:DAYLIGHT
TZOFFSETFROM:-0600
TZOFFSETTO:-0500
TZNAME:CDT
DTSTART:20250309T080000
END:DAYLIGHT
BEGIN:STANDARD
TZOFFSETFROM:-0500
TZOFFSETTO:-0600
TZNAME:CST
DTSTART:20251102T070000
END:STANDARD
BEGIN:DAYLIGHT
TZOFFSETFROM:-0600
TZOFFSETTO:-0500
TZNAME:CDT
DTSTART:20260308T080000
END:DAYLIGHT
BEGIN:STANDARD
TZOFFSETFROM:-0500
TZOFFSETTO:-0600
TZNAME:CST
DTSTART:20261101T070000
END:STANDARD
END:VTIMEZONE
BEGIN:VEVENT
DTSTART;TZID=America/Chicago:20250708T093000
DTEND;TZID=America/Chicago:20250708T103000
DTSTAMP:20260423T102848
CREATED:20250702T145909Z
LAST-MODIFIED:20250702T145909Z
UID:7587-1751967000-1751970600@rasminfo.com
SUMMARY:DEI
DESCRIPTION:
URL:https://rasminfo.com/event/dei/
LOCATION:RASM\, 2115 Rolling Green Lane\, North Mankato\, MN\, 56003\, United States
ORGANIZER;CN="RASM":MAILTO:deb@rasminfo.com
END:VEVENT
BEGIN:VEVENT
DTSTART;TZID=America/Chicago:20250708T093000
DTEND;TZID=America/Chicago:20250708T223000
DTSTAMP:20260423T102848
CREATED:20250702T135602Z
LAST-MODIFIED:20250702T135602Z
UID:7585-1751967000-1752013800@rasminfo.com
SUMMARY:DEI Committee Meeting
DESCRIPTION:
URL:https://rasminfo.com/event/dei-committee-meeting-2/
LOCATION:RASM\, 2115 Rolling Green Lane\, North Mankato\, MN\, 56003\, United States
ORGANIZER;CN="RASM":MAILTO:deb@rasminfo.com
END:VEVENT
END:VCALENDAR